{"text_format":"1","workbook":"xlsx","n_sheets":5,"sheets":["List1","NÁVOD","Pomocný list 1","Pomocný list 2","Pomocný list 3"],"not_rendered":{"charts":0,"images":0,"macros":1,"external_links":0,"defined_names":17,"comments":0,"pivot_tables":0},"unopened":[],"bounds":{"document_bytes":16777216,"sheet_cells":100000,"rows_first":2000,"rows_last":500,"rows_between":2000,"halvings":0,"cell_chars":16384,"cell_head_chars":4096},"cells_cut":0,"cells_raw":0,"read":"whole","date_system":"1900"}

{"sheet":"List1","index":0,"n_rows":248,"n_cols":8,"rows_kept":248,"cut":false,"hidden":false,"merged":[[43,5,43,6],[43,7,44,8],[44,5,44,6],[46,4,46,7],[47,1,47,3],[26,3,27,7],[21,0,21,3],[29,2,30,7],[31,4,31,7],[34,0,39,8],[41,2,41,3],[33,0,33,7],[41,0,41,1],[47,5,47,6],[41,5,41,8],[13,2,13,4],[14,2,14,3],[18,2,18,3],[18,4,18,7],[19,2,19,4],[19,6,19,7],[21,4,21,6],[23,0,23,1],[23,2,23,3],[23,4,24,5],[23,6,23,7],[13,0,13,1],[14,0,14,1],[17,0,17,6],[18,0,18,1],[19,0,19,1],[6,2,6,8],[7,2,7,5],[11,0,11,2],[9,1,9,2],[12,3,12,7],[9,6,9,7],[0,0,0,8],[1,0,3,8],[4,0,4,8],[8,1,8,2],[10,6,10,7],[12,0,12,2],[49,0,50,8],[52,2,52,3],[99,0,100,8],[93,0,98,8],[89,2,89,7],[76,0,78,8],[90,1,90,2],[90,4,90,5],[64,5,64,6],[79,2,79,7],[80,2,80,7],[81,2,81,7],[82,2,82,7],[83,2,83,7],[84,2,84,7],[72,5,72,7],[87,0,88,8],[65,5,65,6],[66,0,66,2],[67,0,67,8],[68,5,68,7],[73,0,73,4],[70,5,70,6],[102,0,102,8],[103,0,106,8],[108,0,108,8],[109,0,111,8],[113,0,113,5],[113,6,113,8],[114,1,114,5],[114,7,114,8],[115,0,116,0],[115,1,116,5],[115,6,116,6],[115,7,116,8],[117,0,118,0],[117,1,118,5],[117,6,118,6],[117,7,118,8],[119,0,120,0],[119,1,120,5],[119,6,120,6],[119,7,120,8],[121,0,122,0],[121,1,122,5],[121,6,122,6],[121,7,122,8],[123,0,124,0],[123,1,124,5],[123,6,124,6],[123,7,124,8],[125,0,126,0],[125,1,126,5],[125,6,126,6],[125,7,126,8],[127,0,128,0],[127,1,128,5],[127,6,128,6],[127,7,128,8],[129,0,130,0],[129,1,130,5],[129,6,130,6],[129,7,130,8],[131,0,132,0],[131,1,132,5],[131,6,132,6],[131,7,132,8],[133,0,134,0],[133,1,134,5],[133,6,134,6],[133,7,134,8],[135,0,136,0],[135,1,136,5],[135,6,136,6],[135,7,136,8],[137,0,138,0],[137,1,138,5],[137,6,138,6],[137,7,138,8],[139,0,140,0],[139,1,140,5],[139,6,140,6],[139,7,140,8],[141,0,142,0],[141,1,142,5],[141,6,142,6],[141,7,142,8],[143,0,144,0],[143,1,144,5],[143,6,144,6],[143,7,144,8],[145,1,145,5],[145,7,145,8],[146,1,146,5],[146,7,146,8],[147,1,147,5],[147,7,147,8],[148,1,148,5],[148,7,148,8],[149,1,149,5],[149,7,149,8],[150,1,150,5],[150,7,150,8],[151,1,151,5],[151,7,151,8],[152,1,152,5],[152,7,152,8],[153,1,153,5],[153,7,153,8],[154,1,154,5],[154,7,154,8],[155,1,155,5],[155,7,155,8],[156,1,156,5],[156,7,156,8],[157,1,157,5],[157,7,157,8],[158,1,158,5],[158,7,158,8],[159,1,159,5],[159,7,159,8],[160,1,160,5],[160,7,160,8],[161,1,161,5],[161,7,161,8],[162,1,162,5],[162,7,162,8],[163,1,163,5],[163,7,163,8],[164,1,164,5],[164,7,164,8],[167,1,167,5],[167,7,167,8],[165,1,165,5],[165,7,165,8],[166,1,166,5],[166,7,166,8],[223,0,223,2],[224,0,224,2],[225,0,225,2],[219,3,219,4],[220,3,220,4],[221,3,221,4],[222,3,222,4],[223,3,223,4],[224,3,224,4],[225,3,225,4],[211,5,211,6],[212,5,212,6],[219,0,219,2],[220,0,220,2],[221,0,221,2],[222,0,222,2],[211,3,211,4],[212,3,212,4],[213,3,213,4],[179,0,179,6],[179,7,179,8],[180,0,180,6],[180,7,180,8],[181,7,181,8],[182,0,182,8],[183,0,183,8],[185,0,185,2],[185,3,185,4],[185,5,185,6],[185,7,185,8],[170,1,170,5],[170,7,170,8],[168,7,168,8],[168,1,168,5],[171,7,171,8],[172,7,172,8],[169,1,169,5],[169,7,169,8],[178,7,178,8],[173,7,173,8],[174,6,174,8],[176,0,176,6],[176,7,177,8],[178,0,178,6],[186,7,186,8],[187,0,187,2],[187,3,187,4],[187,5,187,6],[187,7,187,8],[188,3,188,4],[188,5,188,6],[188,7,188,8],[189,3,189,4],[189,5,189,6],[189,7,189,8],[186,0,186,2],[186,3,186,4],[186,5,186,6],[190,3,190,4],[190,5,190,6],[190,7,190,8],[191,3,191,4],[191,5,191,6],[191,7,191,8],[192,3,192,4],[192,5,192,6],[192,7,192,8],[194,0,194,2],[194,3,194,4],[194,5,194,6],[195,0,195,2],[195,3,195,4],[195,6,199,6],[196,0,196,2],[196,3,196,4],[197,3,197,4],[198,3,198,4],[199,3,199,4],[200,0,200,2],[200,3,200,4],[200,5,201,6],[201,0,201,2],[201,3,201,4],[227,0,228,8],[213,0,213,2],[213,5,213,6],[207,3,207,4],[212,0,212,2],[207,0,207,2],[208,0,208,2],[209,0,209,2],[210,0,210,2],[211,0,211,2],[208,3,208,4],[209,3,209,4],[210,3,210,4],[202,0,203,8],[204,0,204,8],[207,5,207,6],[208,5,208,6],[209,5,209,6],[210,5,210,6],[250,0,250,8],[251,0,251,8],[252,0,252,8],[253,0,253,8],[229,0,234,8],[239,1,239,4],[239,6,239,7],[241,4,246,7],[247,4,249,7],[235,0,237,8],[241,0,242,2],[243,0,243,1],[244,0,244,1],[264,0,264,8],[258,0,258,8],[259,0,259,8],[260,0,260,8],[261,0,261,8],[254,0,254,8],[255,0,255,8],[256,0,256,8],[257,0,257,8],[262,0,262,8],[263,0,263,8]]}
["Žádost o poskytnutí dotace"]
["z rozpočtu Odboru umění, literatury a knihoven Ministerstva kultury, Maltézské nám. 471/1, 118 11 Praha 1 na podprogram Informační centra knihoven v rámci programu Veřejné informační služby knihoven "]
[]
[]
["VISK 3 pro rok 2018"]
[]
["NÁZEV ŽADATELE:"]
["Právní forma:",null,null,null,null,null,"Rezort/jiný typ:"]
["IČ:"]
["DIČ:",null,null,null,"Je-li žadatel fyzická osoba:","Rodné číslo:"]
[null,null,null,null,null,"Datum narození:"]
["Adresa (sídlo) žadatele:"]
["Ulice a číslo popisné/orientační:"]
["Obec/město:",null,null,null,null,"PSČ:  "]
["Okres:",null,null,null,null,"Kód okresu",{"$f":"VLOOKUP(C15,číselník,2)","v":{"$error":"#N/A"}}]
["Kraj",null,{"$f":"VLOOKUP(C15,číselník,3)","v":{"$error":"#N/A"}},null,null,"Kód kraje",{"$f":"VLOOKUP(C15,číselník,4)","v":{"$error":"#N/A"}}]
[]
["Jméno a příjmení statutárního zástupce/statutárních zástupců:"]
["Oslovení/Jméno:"]
["Kontaktní email:",null,null,null,null,"Tel:  "]
[]
["Bankovní spojení (číslo účtu/kód banky):"]
[]
["Evidenční číslo knihovny:",null,null,null,"Číslo registrace na MV ČR:\n(pouze občanská sdružení)"]
[]
[]
["Adresa krajského finančního úřadu:"]
[]
["ÚDAJE O PROJEKTU"]
["Název projektu:"]
[]
["Vyberte typ projektu, na který požadujete dotaci:"]
[]
["Povinná stručná charakteristika (anotace) projektu (max. 5 řádek, podrobný popis projektu v souboru DOC, resp. RTF)"]
[]
[]
[]
[]
[]
[]
[]
["Termín realizace:",null,null,null,"Místo realizace:  "]
[]
["Požadovaná výše dotace:",null,null,null,null,{"$f":"D196","v":0},null,"Pozn: částky se dopočítají automaticky z údajů uvedených dále"]
["Celkové náklady na projekt:",null,null,null,null,{"$f":"D200","v":0}]
[]
["Osoba odpovídající za projekt:"]
["Email:",null,null,null,"Tel:"]
[]
["Základní údaje o žadateli a knihovně\n(vyplňte všechny pro vás relevantní údaje)"]
[]
[]
["Typ knihovny:",null,null,null,null,"Jiný typ subjektu:"]
[]
["Počet obyvatel obce:"]
["Týdenní počet hodin pro veřejnost:"]
["Počet zaměstnanců (úvazků):"]
["Počet návštěvníků/uživatelů za poslední uzavřený rok (tj. 2016):"]
["Výdaje v Kč na nákup knihovního fondu v posled. uzavřeném roce:"]
["Počet knihovních jednotek:"]
["Přírustek svazků za poslední uzavřený rok:"]
["Počet výpůjček za poslední uzavřený rok:"]
["Počet počítačů v knihovně celkem:"]
["     *z toho počítače starší než 2 roky:"]
["Typ připojení na internet:"]
["Rychlost připojení:"]
["Webová stránka knihovny:  ",null,null,null,null,"ano"]
["(sem vložte odkaz na webovou stránku knihovny)"]
["Regionální kooperační systém:"]
["Přispíváte do Souborného katalogu ČR?",null,null,null,null,"ne"]
["Půjčujete e-knihy?"]
["Používáte automatizovaný knihovní systém?",null,null,null,null,"ano"]
["Název knihovního systému, případně i číslo verze"]
["Rok zavedení současného knihovního systému (automatizace, přechodu atd.)"]
[]
["Poskytnuté dotace na automatizovaný knihovní systém z programu VISK v letech 2013-2017"]
["Požadujete-li v žádosti na rok 2017 dotaci na knihovní systém (přechod z jednoho automatizovaného systému na jiný) nebo jeho část (např. moduly), rozepište podrobněji, zda a případně v kterých letech jste již dotace na automatizovaný systém získali, jejich výši v Kč a na jaké konkrétní části systému:"]
[]
[]
["rok","výše dotace","na jaký systém, resp. jeho části (moduly)"]
[2013]
[2014]
[2015]
[2016]
[2017]
[]
["Poskytnutá dotace z podprogramu VISK 3 za rok 2017"]
["(vyplní pouze subjekt, který v roce 2017 čerpal dotaci VISK 3)"]
[]
["Název projektu:"]
["Žádáno Kč",null,null,"Získáno Kč"]
[]
["Zhodnocení/závěrečná zpráva projektu (max. 5 řádek)"]
[]
[]
[]
[]
[]
[]
["Rozpočet projektu"]
[]
["NEINVESTIČNÍ NÁKLADY"]
["Uveďte přesně jednotlivé neinvestiční náklady a jejich vyčíslení v Kč včetně DPH. U každého nákladu v položce speficikujte, o jaké neinvestiční prostředky se jedná:"]
["1a) DHDM - nákup drobný hmotný dlouhodobý majetek (materiál, výpočetní technika a vybavení apod. do 40 tis. Kč)\n1b) DDNM - nákup drobný dlouhodobý nehmotný majetek (programové vybavení do 60 tis. Kč, licenční a patentové poplatky ap.)\n2) služby (např. poradenské služby, servis, rozvody sítě apod.)\n3) OON - ostatní osobní náklady (dohody o provedení práce/činnosti)\n4) ostatní"]
[]
[]
[]
["INVESTIČNÍ NÁKLADY"]
["Uveďte přesně jednotlivé položky a jejich vyčíslení v Kč včetně DPH. U všech investičních nákladů vyberte jako položku:\n5) INVESTICE - investiční náklady"]
["Mezi investiční prostředky patří zejména:\n*nákup dlouhodobého hmotného majetku (výpočetní technika apod., jejíž pořizovací cena je vyšší než 40 tis. Kč)\n*nákup dlouhodobého nehmotného majetku (programové vybavení nad 60 tis. Kč)"]
[]
[]
[]
["Náklady",null,null,null,null,null,"Hrazeno (Kč)"]
["Položka (vyberte ze seznamu)","  Specifikace položky - základní parametry                                (detailnější informace uvádějte v popisu projektu)",null,null,null,null,"z dotace","z vlastních prostředků (nebo dalších zdrojů)"]
["1b) DDNM"]
[]
["1a) DHDM"]
[]
[]
[]
[]
[]
[]
[]
[]
[]
[]
[]
[]
[]
[]
[]
[]
[]
[]
[]
[]
[]
[]
[]
[]
[]
[]
[]
[]
[]
[]
[]
[]
[]
[]
[]
[]
[]
[]
[]
[]
[]
[]
[]
[]
[]
[]
[]
[]
[]
[]
[]
[]
[]
["Neinvestiční náklady",null,null,null,null,null,{"$f":"SUM('Pomocný list 2'!A59,'Pomocný list 2'!C59,'Pomocný list 2'!E59,'Pomocný list 2'!G59,'Pomocný list 2'!I59)","v":0},{"$f":"SUM('Pomocný list 2'!B59,'Pomocný list 2'!D59,'Pomocný list 2'!F59,'Pomocný list 2'!H59,'Pomocný list 2'!J59)","v":0}]
["Investiční náklady",null,null,null,null,null,{"$f":"SUM('Pomocný list 2'!K59)","v":0},{"$f":"SUM('Pomocný list 2'!L59)","v":0}]
["Náklady dotace/spoluúčast (před zaokrouhlením)",null,null,null,null,null,{"$f":"SUM(G172:G173)","v":0},{"$f":"SUM(H172:I173)","v":0}]
["Celkové náklady na projekt",null,null,null,null,null,{"$f":"SUM(G174:I174)","v":0}]
[]
["DALŠÍ ZDROJE KRYTÍ PROJEKTU (i předpokládané)",null,null,null,null,null,null,"Částka v Kč"]
["(Vypište, pokud žádáte o podporu na stejný projekt i u dalších subjektů. Jedná se pouze o informativní údaj)"]
[]
[]
["Další zdroje krytí projektu celkem:",null,null,null,null,null,null,{"$f":"SUM(H179:I180)","v":0}]
[]
["ROZPOČET PROJEKTU - SHRNUTÍ"]
["(požadovaná neinvestiční i investiční dotace je zaokrouhlena na celé tisíce Kč dolů)"]
[]
[null,null,null,"Požadavek na dotaci v Kč",null,"Vlastní prostředky + případné další zdroje krytí projektu",null,"Celkem"]
["Investiční náklady na projekt",null,null,{"$f":"ROUNDDOWN(G173,-3)","v":0},null,{"$f":"H173+D201","v":0},null,{"$f":"SUM(D187:G187)","v":0}]
["Neinvestiční náklady na projekt",null,null,{"$f":"ROUNDDOWN(G172,-3)","v":0},null,{"$f":"SUM(F189:F193)","v":0},null,0]
["*Drobný hmotný dl.majetek (nezaokrouhleno)",null,null,{"$f":"'Pomocný list 2'!A59","v":0},null,{"$f":"'Pomocný list 2'!B59","v":0},null,0]
["*Drobný dlouhodobý NM (nezaokrouhleno)",null,null,{"$f":"'Pomocný list 2'!C59","v":0},null,{"$f":"'Pomocný list 2'!D59","v":0},null,0]
["*+Služby (nezaokrouhleno)",null,null,{"$f":"'Pomocný list 2'!E59","v":0},null,{"$f":"'Pomocný list 2'!F59","v":0},null,0]
["*Ostatní osobní náklady (nezaokrouhleno)",null,null,{"$f":"'Pomocný list 2'!G59","v":0},null,{"$f":"'Pomocný list 2'!H59","v":0},null,0]
["*Ostatní (nezaokrouhleno)",null,null,{"$f":"'Pomocný list 2'!I59","v":0},null,{"$f":"'Pomocný list 2'!J59+D202","v":0},null,0]
[]
[null,null,null,"Částka",null,"Procentní vyjádření"]
["Požadavek na dotaci celkem",null,null,{"$f":"SUM(D187:E188)","v":0},null,{"$f":"D196/D200","v":{"$error":"#DIV/0!"}},"Pozn: Výše požadované dotace může činit max. 70% celkových nákladů na projekt."]
["Finanční spoluúčast:",null,null,{"$f":"SUM(F187:G188)","v":0},null,{"$f":"D197/D200","v":{"$error":"#DIV/0!"}}]
["  *z toho vlastní prostředky",null,null,{"$f":"D197-D199","v":0},null,{"$f":"D198/D200","v":{"$error":"#DIV/0!"}}]
["  *z toho další zdroje krytí",null,null,{"$f":"SUM(H179:I180)","v":0},null,{"$f":"D199/D200","v":{"$error":"#DIV/0!"}}]
["Celkové náklady projektu",null,null,{"$f":"SUM(D196:E197)","v":0},null,{"$f":"SUM(F196:F197)","v":{"$error":"#DIV/0!"}}]
["Investiční náklady  převedené do spoluúčasti",null,null,{"$f":"G173-D187","v":0},null,"Vysvětlení těchto řádků viz Návod na vyplnění formuláře (str. 6 formuláře)"]
["Neinvestiční náklady převedené do spoluúčasti (do položky Ostatní)",null,null,{"$f":"G172-D188","v":0}]
["Další povinné údaje dle novely zákona č. 218/2000 Sb., publikované pod č. 171/2012 Sb.*\n*uvádějte především vztahy relevantní k danému projektu; v případě nedostatku místa uveďte v samostatné příloze"]
[]
[]
[" Seznam osob, v nichž má žadatel, který je právnickou osobou, podíl ke dni podání žádosti"]
["Název osoby",null,null,"Sídlo osoby",null,"IČ",null,"Výše podílu (%)"]
[]
[]
[]
[]
[]
[]
[]
[]
[" Seznam osob, které mají podíl v žadateli, který je právnickou osobou"]
[" (Nelze-li tyto osoby identifikovat podle výpisu z Obchodního rejstříku.; týká se zejména akciových společností s listinnými akciemi na majitele)"]
[]
["Název osoby/Jméno a příjmení",null,null,"Sídlo/Trvalý pobyt",null,"IČ, je-li přiděleno"]
[]
[]
[]
[]
[]
[]
[]
[]
["Prohlášení žadatele"]
[]
["Žadatel o dotaci potvrzuje správnost uvedených údajů a prohlašuje, že nemá žádné nevyrovnané závazky dle § 2 nařízení vlády č. 288/2002 Sb., kterým se stanoví pravidla poskytování dotací na podporu knihoven, v platném znění, potvrzuje, že údaje uvedené v žádosti jsou správné a pravdivé, prohlašuje, že věnoval zvláštní pozornost tabulkám na této straně formuláře a že se seznámil s vyhlašovacími podmínkami a akceptuje je."]
[]
[]
[]
[]
[]
["Prohlašuji, že souhlasím se zveřejněním identifikačních údajů o své osobě a o výši poskytnuté dotace, jakož i s případným poskytnutím kopie této žádosti a jejích příloh podle zákona č. 106/1999 Sb., o svobodném přístupu k informacím, ve znění pozdějších předpisů."]
[]
[]
[]
["V ",null,null,null,null,"dne, roku"]
[]
["Oprávněná osoba jedná jako (vyplňuje pouze žadatel, který je právnickou osobou):"]
[]
[" statutární orgán žadatele"]
["na základě udělené plné moci"]
[]
[]
[null,null,null,null,"na tištěné kopii žádosti zde podpis statutárního orgánu, příp. fyzické osoby + razítko u právnické osoby"]

{"sheet":"NÁVOD","index":1,"n_rows":20,"n_cols":1,"rows_kept":20,"cut":false,"hidden":false,"merged":[]}
["Tato strana s pokyny je jen pro informaci, netiskněte ji či jinak nepřikládejte k tištěné verzi projektu!"]
["Návod k vyplnění formuláře"]
["* čísla vyplňujte vždy prostým zadáním číslic (např. 35680) a nikoliv jinak (tedy ne 35.680, 35 tis. Kč apod.)"]
["* již vyplněnou buňku lze nadále upravovat/editovat, případně obsah buňky smazat (klávesa DELETE)"]
["* v Rozpočtu projektu (strany 3-4) vždy důsledně vyberte Položku z rolovacího seznamu (první sloupec) - její správné přiřazení je klíčové pro výpočty a další automatizované zpracování formuláře. Nebude-li v řádku Položka vybrána, nebude tento řádek započítán do celkových souhrnů! (a bude používán jen jako doplňková informace)"]
[]
["* Stručná charakteristika (anotace) projektu - zde vysvětlete podstatu projektu, jeho průběh, stěžejní myšlenku atd. Viz vzorová žádost."]
["* Řádek 201 formuláře (Investiční náklady převedené do spoluúčasti) + řádek 202 formuláře (Neinvestiční náklady převedené do spoluúčasti (do položky Ostatní)): jedná se o rozdíly vzniklé zakrouhlením požadované dotace (investiční i neinvestiční) na celé tisíce dolů. O tyto částky je automaticky navýšena vlastní finanční spoluúčast na projektu."]
[]
["Jak postupovat při zaslání žádosti o dotaci"]
["Elektronická verze"]
["1. Vyplňte tento formulář žádosti (List 1) a soubor si uložte ve formátu *.xls (EXCEL!). Nepřevádějte do jiných formátů! Současně vyplňte popis projektu a soubor uložte ve formátu *.doc nebo *.rtf."]
["2. Do jednoho samostatného souboru ve formátu PDF vložte povinné, resp. případné fakultativní přílohy, máte-li nějaké."]
["3. Tyto tři - a pouze tři - výše uvedené soubory zašlete elektronicky dle pokynů uvedených v Závěrečných ustanoveních podmínek vyhlášení dotace. (Ve stručnosti: Soubory zašlete na emailovou adresu: VISK3@mkcr.cz. Do „Předmětu“ uveďte „VISK3/2018“ a název žadatele, případně i název projektu. Velikost emailové zprávy nesmí včetně všech příloh přesáhnout 8MB.)"]
["Tištěná verze"]
["1. Formulář žádosti (XLS) včetně Popisu projektu (DOC) vytiskněte a opatřete nezbytnými podpisy a razítky. Verze zaslaná elektronicky se nesmí lišit textově od verze tištěné, jen neobsahuje podpisy a razítka! Originály žádosti budou součástí archivu žádosti, projekt bude hodnocen komisí dle dodaných elektronických kopií."]
["2. K tištěné verzi přidejte další požadované dokumenty dle Podmínek vyhlášení dotace, především doklad prokazující oprávnění osoby jednající za žadatele a povinné přílohy (pokud jsou pro daný typ projektu vyžadovány)!"]
["3. Vytištěný formulář žádosti opatřený všemi náležitostmi včetně popisu projektu a včetně povinných a případných fakultativních příloh a další požadované dokumenty zašlete dle pokynů uvedených v Závěrečných ustanoveních podmínek vyhlášení dotace."]
["4. Projekty zpracované podle výše uvedených podmínek musí být zaslány na adresu: Ministerstvo kultury, odbor umění, literatury a knihoven, Maltézské náměstí 1, 118 11  Praha 1 – Malá Strana, nebo datovou schránkou na adresu MK nebo osobně doručeny prostřednictvím podatelny MK do 10. 12. 2016 včetně."]
["5. Za rozhodující se považuje datum odevzdání do poštovní přepravy (resp. datum převzetí podatelnou MK při osobním podání)."]

{"sheet":"Pomocný list 1","index":2,"n_rows":79,"n_cols":16,"rows_kept":79,"cut":false,"hidden":false,"merged":[[0,7,1,7]]}
["Okres",null,"Kraj",null,"Region",null,null,"Okresy podle abecedy","1a) DHDM","Vážený pan",null,null,"Krajská","o.s.","ano","ADSL"]
["Územní jednotka","LAU1","Územní jednotka","NUTS3","Územní jednotka","NUTS2",null,null,"1b) DDNM","Vážená paní",null,null,"Městská","nadace","ne","ISDN"]
["Benešov",201,"Středočeský kraj","CZ020","Střední Čechy","CZ02",null,"Benešov","2) služby",null,null,null,"Obecní","o.p.s.",null,"Pevná linka"]
["Beroun",202,"Středočeský kraj","CZ020","Střední Čechy","CZ02",null,"Beroun","3) OON",null,null,null,"Školní","s.r.o.",null,"Kabel"]
["Blansko",641,"Jihomoravský kraj","CZ064","Jihovýchod","CZ06",null,"Blansko","4) ostatní",null,null,null,"Vysokoškolská",null,null,"Optika"]
["Brno-město",642,"Jihomoravský kraj","CZ064","Jihovýchod","CZ06",null,"Brno-město","5) INVESTICE",null,null,null,"Muzejní",null,null,"Radiový spoj"]
["Brno-venkov",643,"Jihomoravský kraj","CZ064","Jihovýchod","CZ06",null,"Brno-venkov",null,null,null,null,"Jiná",null,null,"Vytáčené spojení"]
["Bruntál",801,"Moravskoslezský kraj","CZ080","Moravskoslezsko","CZ08",null,"Bruntál",null,null,null,null,null,null,null,"Jiné"]
["Břeclav",644,"Jihomoravský kraj","CZ064","Jihovýchod","CZ06",null,"Břeclav"]
["Česká Lípa",511,"Liberecký kraj","CZ051","Severovýchod","CZ05",null,"Česká Lípa"]
["České Budějovice",311,"Jihočeský kraj","CZ031","Jihozápad","CZ03",null,"České Budějovice"]
["Český Krumlov",312,"Jihočeský kraj","CZ031","Jihozápad","CZ03",null,"Český Krumlov"]
["Děčín",421,"Ústecký kraj","CZ042","Severozápad","CZ04",null,"Děčín"]
["Domažlice",321,"Plzeňský kraj","CZ032","Jihozápad","CZ03",null,"Domažlice"]
["Frýdek-Místek",802,"Moravskoslezský kraj","CZ080","Moravskoslezsko","CZ08",null,"Frýdek-Místek"]
["Havlíčkův Brod",631,"Kraj Vysočina","CZ063","Jihovýchod","CZ06",null,"Havlíčkův Brod"]
["Hodonín",645,"Jihomoravský kraj","CZ064","Jihovýchod","CZ06",null,"Hodonín"]
["Hradec Králové",521,"Královéhradecký kraj","CZ052","Severovýchod","CZ05",null,"Hradec Králové"]
["Cheb",411,"Karlovarský kraj","CZ041","Severozápad","CZ04",null,"Cheb"]
["Chomutov",422,"Ústecký kraj","CZ042","Severozápad","CZ04",null,"Chomutov"]
["Chrudim",531,"Pardubický kraj","CZ053","Severovýchod","CZ05",null,"Chrudim"]
["Jablonec nad Nisou",512,"Liberecký kraj","CZ051","Severovýchod","CZ05",null,"Jablonec nad Nisou"]
["Jeseník",711,"Olomoucký kraj","CZ071","Střední Morava","CZ07",null,"Jeseník"]
["Jičín",522,"Královéhradecký kraj","CZ052","Severovýchod","CZ05",null,"Jičín"]
["Jihlava",632,"Kraj Vysočina","CZ063","Jihovýchod","CZ06",null,"Jihlava"]
["Jindřichův Hradec",313,"Jihočeský kraj","CZ031","Jihozápad","CZ03",null,"Jindřichův Hradec"]
["Karlovy Vary",412,"Karlovarský kraj","CZ041","Severozápad","CZ04",null,"Karlovy Vary"]
["Karviná",803,"Moravskoslezský kraj","CZ080","Moravskoslezsko","CZ08",null,"Karviná"]
["Kladno",203,"Středočeský kraj","CZ020","Střední Čechy","CZ02",null,"Kladno"]
["Klatovy",322,"Plzeňský kraj","CZ032","Jihozápad","CZ03",null,"Klatovy"]
["Kolín",204,"Středočeský kraj","CZ020","Střední Čechy","CZ02",null,"Kolín"]
["Kroměříž",721,"Zlínský kraj","CZ072","Střední Morava","CZ07",null,"Kroměříž"]
["Kutná Hora",205,"Středočeský kraj","CZ020","Střední Čechy","CZ02",null,"Kutná Hora"]
["Liberec",513,"Liberecký kraj","CZ051","Severovýchod","CZ05",null,"Liberec"]
["Litoměřice",423,"Ústecký kraj","CZ042","Severozápad","CZ04",null,"Litoměřice"]
["Louny",424,"Ústecký kraj","CZ042","Severozápad","CZ04",null,"Louny"]
["Mělník",206,"Středočeský kraj","CZ020","Střední Čechy","CZ02",null,"Mělník"]
["Mladá Boleslav",207,"Středočeský kraj","CZ020","Střední Čechy","CZ02",null,"Mladá Boleslav"]
["Most",425,"Ústecký kraj","CZ042","Severozápad","CZ04",null,"Most"]
["Náchod",523,"Královéhradecký kraj","CZ052","Severovýchod","CZ05",null,"Náchod"]
["Nový Jičín",804,"Moravskoslezský kraj","CZ080","Moravskoslezsko","CZ08",null,"Nový Jičín"]
["Nymburk",208,"Středočeský kraj","CZ020","Střední Čechy","CZ02",null,"Nymburk"]
["Olomouc",712,"Olomoucký kraj","CZ071","Střední Morava","CZ07",null,"Olomouc"]
["Opava",805,"Moravskoslezský kraj","CZ080","Moravskoslezsko","CZ08",null,"Opava"]
["Ostrava-město",806,"Moravskoslezský kraj","CZ080","Moravskoslezsko","CZ08",null,"Ostrava-město"]
["Pardubice",532,"Pardubický kraj","CZ053","Severovýchod","CZ05",null,"Pardubice"]
["Pelhřimov",633,"Kraj Vysočina","CZ063","Jihovýchod","CZ06",null,"Pelhřimov"]
["Písek",314,"Jihočeský kraj","CZ031","Jihozápad","CZ03",null,"Písek"]
["Plzeň-jih",324,"Plzeňský kraj","CZ032","Jihozápad","CZ03",null,"Plzeň-jih"]
["Plzeň-město",323,"Plzeňský kraj","CZ032","Jihozápad","CZ03",null,"Plzeň-město"]
["Plzeň-sever",325,"Plzeňský kraj","CZ032","Jihozápad","CZ03",null,"Plzeň-sever"]
["Praha",100,"Hlavní město Praha","CZ010","Praha","CZ01",null,"Praha"]
["Praha-východ",209,"Středočeský kraj","CZ020","Střední Čechy","CZ02",null,"Praha-východ"]
["Praha-západ","20A","Středočeský kraj","CZ020","Střední Čechy","CZ02",null,"Praha-západ"]
["Prachatice",315,"Jihočeský kraj","CZ031","Jihozápad","CZ03",null,"Prachatice"]
["Prostějov",713,"Olomoucký kraj","CZ071","Střední Morava","CZ07",null,"Prostějov"]
["Přerov",714,"Olomoucký kraj","CZ071","Střední Morava","CZ07",null,"Přerov"]
["Příbram","20B","Středočeský kraj","CZ020","Střední Čechy","CZ02",null,"Příbram"]
["Rakovník","20C","Středočeský kraj","CZ020","Střední Čechy","CZ02",null,"Rakovník"]
["Rokycany",326,"Plzeňský kraj","CZ032","Jihozápad","CZ03",null,"Rokycany"]
["Rychnov nad Kněžnou",524,"Královéhradecký kraj","CZ052","Severovýchod","CZ05",null,"Rychnov nad Kněžnou"]
["Semily",514,"Liberecký kraj","CZ051","Severovýchod","CZ05",null,"Semily"]
["Sokolov",413,"Karlovarský kraj","CZ041","Severozápad","CZ04",null,"Sokolov"]
["Strakonice",316,"Jihočeský kraj","CZ031","Jihozápad","CZ03",null,"Strakonice"]
["Svitavy",533,"Pardubický kraj","CZ053","Severovýchod","CZ05",null,"Svitavy"]
["Šumperk",715,"Olomoucký kraj","CZ071","Střední Morava","CZ07",null,"Šumperk"]
["Tábor",317,"Jihočeský kraj","CZ031","Jihozápad","CZ03",null,"Tábor"]
["Tachov",327,"Plzeňský kraj","CZ032","Jihozápad","CZ03",null,"Tachov"]
["Teplice",426,"Ústecký kraj","CZ042","Severozápad","CZ04",null,"Teplice"]
["Trutnov",525,"Královéhradecký kraj","CZ052","Severovýchod","CZ05",null,"Trutnov"]
["Třebíč",634,"Kraj Vysočina","CZ063","Jihovýchod","CZ06",null,"Třebíč"]
["Uherské Hradiště",722,"Zlínský kraj","CZ072","Střední Morava","CZ07",null,"Uherské Hradiště"]
["Ústí nad Labem",427,"Ústecký kraj","CZ042","Severozápad","CZ04",null,"Ústí nad Labem"]
["Ústí nad Orlicí",534,"Pardubický kraj","CZ053","Severovýchod","CZ05",null,"Ústí nad Orlicí"]
["Vsetín",723,"Zlínský kraj","CZ072","Střední Morava","CZ07",null,"Vsetín"]
["Vyškov",646,"Jihomoravský kraj","CZ064","Jihovýchod","CZ06",null,"Vyškov"]
["Zlín",724,"Zlínský kraj","CZ072","Střední Morava","CZ07",null,"Zlín"]
["Znojmo",647,"Jihomoravský kraj","CZ064","Jihovýchod","CZ06",null,"Znojmo"]
["Žďár nad Sázavou",635,"Kraj Vysočina","CZ063","Jihovýchod","CZ06",null,"Žďár nad Sázavou"]

{"sheet":"Pomocný list 2","index":3,"n_rows":59,"n_cols":12,"rows_kept":59,"cut":false,"hidden":false,"merged":[[0,8,0,9],[0,10,0,11],[0,0,0,1],[0,2,0,3],[0,4,0,5],[0,6,0,7]]}
["1a nákupy - drobný hmotný majetek",null,"1b nákupy - drobný dlouhodobý nehmotný majetek",null,"2 služby",null,"3 Ostatní osobní náklady (OON)",null,"4 Ostatní",null,"5 Investice"]
["dotace","spoluúčast","dotace","spoluúčast","dotace","spoluúčast","dotace","spoluúčast","dotace","spoluúčast","dotace","spoluúčast"]
[{"$f":"IF(List1!A116=\"1a) DHDM\",List1!G116,0)","v":0},{"$f":"IF(List1!A116=\"1a) DHDM\",List1!H116,0)","v":0},{"$f":"IF(List1!A116=\"1b) DDNM\",List1!G116,0)","v":0},{"$f":"IF(List1!A116=\"1b) DDNM\",List1!H116,0)","v":0},{"$f":"IF(List1!A116=\"2) služby\",List1!G116,0)","v":0},{"$f":"IF(List1!A116=\"2) služby\",List1!H116,0)","v":0},{"$f":"IF(List1!A116=\"3) OON\",List1!G116,0)","v":0},{"$f":"IF(List1!A116=\"3) OON\",List1!H116,0)","v":0},{"$f":"IF(List1!A116=\"4) ostatní\",List1!G116,0)","v":0},{"$f":"IF(List1!A116=\"4) ostatní\",List1!H116,0)","v":0},{"$f":"IF(List1!A116=\"5) INVESTICE\",List1!G116,0)","v":0},{"$f":"IF(List1!A116=\"5) INVESTICE\",List1!H116,0)","v":0}]
[{"$f":"IF(List1!A117=\"1a) DHDM\",List1!G117,0)","v":0},{"$f":"IF(List1!A117=\"1a) DHDM\",List1!H117,0)","v":0},{"$f":"IF(List1!A117=\"1b) DDNM\",List1!G117,0)","v":0},{"$f":"IF(List1!A117=\"1b) DDNM\",List1!H117,0)","v":0},{"$f":"IF(List1!A117=\"2) služby\",List1!G117,0)","v":0},{"$f":"IF(List1!A117=\"2) služby\",List1!H117,0)","v":0},{"$f":"IF(List1!A117=\"3) OON\",List1!G117,0)","v":0},{"$f":"IF(List1!A117=\"3) OON\",List1!H117,0)","v":0},{"$f":"IF(List1!A117=\"4) ostatní\",List1!G117,0)","v":0},{"$f":"IF(List1!A117=\"4) ostatní\",List1!H117,0)","v":0},{"$f":"IF(List1!A117=\"5) INVESTICE\",List1!G117,0)","v":0},{"$f":"IF(List1!A117=\"5) INVESTICE\",List1!H117,0)","v":0}]
[{"$f":"IF(List1!A118=\"1a) DHDM\",List1!G118,0)","v":0},{"$f":"IF(List1!A118=\"1a) DHDM\",List1!H118,0)","v":0},{"$f":"IF(List1!A118=\"1b) DDNM\",List1!G118,0)","v":0},{"$f":"IF(List1!A118=\"1b) DDNM\",List1!H118,0)","v":0},{"$f":"IF(List1!A118=\"2) služby\",List1!G118,0)","v":0},{"$f":"IF(List1!A118=\"2) služby\",List1!H118,0)","v":0},{"$f":"IF(List1!A118=\"3) OON\",List1!G118,0)","v":0},{"$f":"IF(List1!A118=\"3) OON\",List1!H118,0)","v":0},{"$f":"IF(List1!A118=\"4) ostatní\",List1!G118,0)","v":0},{"$f":"IF(List1!A118=\"4) ostatní\",List1!H118,0)","v":0},{"$f":"IF(List1!A118=\"5) INVESTICE\",List1!G118,0)","v":0},{"$f":"IF(List1!A118=\"5) INVESTICE\",List1!H118,0)","v":0}]
[{"$f":"IF(List1!A119=\"1a) DHDM\",List1!G119,0)","v":0},{"$f":"IF(List1!A119=\"1a) DHDM\",List1!H119,0)","v":0},{"$f":"IF(List1!A119=\"1b) DDNM\",List1!G119,0)","v":0},{"$f":"IF(List1!A119=\"1b) DDNM\",List1!H119,0)","v":0},{"$f":"IF(List1!A119=\"2) služby\",List1!G119,0)","v":0},{"$f":"IF(List1!A119=\"2) služby\",List1!H119,0)","v":0},{"$f":"IF(List1!A119=\"3) OON\",List1!G119,0)","v":0},{"$f":"IF(List1!A119=\"3) OON\",List1!H119,0)","v":0},{"$f":"IF(List1!A119=\"4) ostatní\",List1!G119,0)","v":0},{"$f":"IF(List1!A119=\"4) ostatní\",List1!H119,0)","v":0},{"$f":"IF(List1!A119=\"5) INVESTICE\",List1!G119,0)","v":0},{"$f":"IF(List1!A119=\"5) INVESTICE\",List1!H119,0)","v":0}]
[{"$f":"IF(List1!A120=\"1a) DHDM\",List1!G120,0)","v":0},{"$f":"IF(List1!A120=\"1a) DHDM\",List1!H120,0)","v":0},{"$f":"IF(List1!A120=\"1b) DDNM\",List1!G120,0)","v":0},{"$f":"IF(List1!A120=\"1b) DDNM\",List1!H120,0)","v":0},{"$f":"IF(List1!A120=\"2) služby\",List1!G120,0)","v":0},{"$f":"IF(List1!A120=\"2) služby\",List1!H120,0)","v":0},{"$f":"IF(List1!A120=\"3) OON\",List1!G120,0)","v":0},{"$f":"IF(List1!A120=\"3) OON\",List1!H120,0)","v":0},{"$f":"IF(List1!A120=\"4) ostatní\",List1!G120,0)","v":0},{"$f":"IF(List1!A120=\"4) ostatní\",List1!H120,0)","v":0},{"$f":"IF(List1!A120=\"5) INVESTICE\",List1!G120,0)","v":0},{"$f":"IF(List1!A120=\"5) INVESTICE\",List1!H120,0)","v":0}]
[{"$f":"IF(List1!A121=\"1a) DHDM\",List1!G121,0)","v":0},{"$f":"IF(List1!A121=\"1a) DHDM\",List1!H121,0)","v":0},{"$f":"IF(List1!A121=\"1b) DDNM\",List1!G121,0)","v":0},{"$f":"IF(List1!A121=\"1b) DDNM\",List1!H121,0)","v":0},{"$f":"IF(List1!A121=\"2) služby\",List1!G121,0)","v":0},{"$f":"IF(List1!A121=\"2) služby\",List1!H121,0)","v":0},{"$f":"IF(List1!A121=\"3) OON\",List1!G121,0)","v":0},{"$f":"IF(List1!A121=\"3) OON\",List1!H121,0)","v":0},{"$f":"IF(List1!A121=\"4) ostatní\",List1!G121,0)","v":0},{"$f":"IF(List1!A121=\"4) ostatní\",List1!H121,0)","v":0},{"$f":"IF(List1!A121=\"5) INVESTICE\",List1!G121,0)","v":0},{"$f":"IF(List1!A121=\"5) INVESTICE\",List1!H121,0)","v":0}]
[{"$f":"IF(List1!A122=\"1a) DHDM\",List1!G122,0)","v":0},{"$f":"IF(List1!A122=\"1a) DHDM\",List1!H122,0)","v":0},{"$f":"IF(List1!A122=\"1b) DDNM\",List1!G122,0)","v":0},{"$f":"IF(List1!A122=\"1b) DDNM\",List1!H122,0)","v":0},{"$f":"IF(List1!A122=\"2) služby\",List1!G122,0)","v":0},{"$f":"IF(List1!A122=\"2) služby\",List1!H122,0)","v":0},{"$f":"IF(List1!A122=\"3) OON\",List1!G122,0)","v":0},{"$f":"IF(List1!A122=\"3) OON\",List1!H122,0)","v":0},{"$f":"IF(List1!A122=\"4) ostatní\",List1!G122,0)","v":0},{"$f":"IF(List1!A122=\"4) ostatní\",List1!H122,0)","v":0},{"$f":"IF(List1!A122=\"5) INVESTICE\",List1!G122,0)","v":0},{"$f":"IF(List1!A122=\"5) INVESTICE\",List1!H122,0)","v":0}]
[{"$f":"IF(List1!A123=\"1a) DHDM\",List1!G123,0)","v":0},{"$f":"IF(List1!A123=\"1a) DHDM\",List1!H123,0)","v":0},{"$f":"IF(List1!A123=\"1b) DDNM\",List1!G123,0)","v":0},{"$f":"IF(List1!A123=\"1b) DDNM\",List1!H123,0)","v":0},{"$f":"IF(List1!A123=\"2) služby\",List1!G123,0)","v":0},{"$f":"IF(List1!A123=\"2) služby\",List1!H123,0)","v":0},{"$f":"IF(List1!A123=\"3) OON\",List1!G123,0)","v":0},{"$f":"IF(List1!A123=\"3) OON\",List1!H123,0)","v":0},{"$f":"IF(List1!A123=\"4) ostatní\",List1!G123,0)","v":0},{"$f":"IF(List1!A123=\"4) ostatní\",List1!H123,0)","v":0},{"$f":"IF(List1!A123=\"5) INVESTICE\",List1!G123,0)","v":0},{"$f":"IF(List1!A123=\"5) INVESTICE\",List1!H123,0)","v":0}]
[{"$f":"IF(List1!A124=\"1a) DHDM\",List1!G124,0)","v":0},{"$f":"IF(List1!A124=\"1a) DHDM\",List1!H124,0)","v":0},{"$f":"IF(List1!A124=\"1b) DDNM\",List1!G124,0)","v":0},{"$f":"IF(List1!A124=\"1b) DDNM\",List1!H124,0)","v":0},{"$f":"IF(List1!A124=\"2) služby\",List1!G124,0)","v":0},{"$f":"IF(List1!A124=\"2) služby\",List1!H124,0)","v":0},{"$f":"IF(List1!A124=\"3) OON\",List1!G124,0)","v":0},{"$f":"IF(List1!A124=\"3) OON\",List1!H124,0)","v":0},{"$f":"IF(List1!A124=\"4) ostatní\",List1!G124,0)","v":0},{"$f":"IF(List1!A124=\"4) ostatní\",List1!H124,0)","v":0},{"$f":"IF(List1!A124=\"5) INVESTICE\",List1!G124,0)","v":0},{"$f":"IF(List1!A124=\"5) INVESTICE\",List1!H124,0)","v":0}]
[{"$f":"IF(List1!A125=\"1a) DHDM\",List1!G125,0)","v":0},{"$f":"IF(List1!A125=\"1a) DHDM\",List1!H125,0)","v":0},{"$f":"IF(List1!A125=\"1b) DDNM\",List1!G125,0)","v":0},{"$f":"IF(List1!A125=\"1b) DDNM\",List1!H125,0)","v":0},{"$f":"IF(List1!A125=\"2) služby\",List1!G125,0)","v":0},{"$f":"IF(List1!A125=\"2) služby\",List1!H125,0)","v":0},{"$f":"IF(List1!A125=\"3) OON\",List1!G125,0)","v":0},{"$f":"IF(List1!A125=\"3) OON\",List1!H125,0)","v":0},{"$f":"IF(List1!A125=\"4) ostatní\",List1!G125,0)","v":0},{"$f":"IF(List1!A125=\"4) ostatní\",List1!H125,0)","v":0},{"$f":"IF(List1!A125=\"5) INVESTICE\",List1!G125,0)","v":0},{"$f":"IF(List1!A125=\"5) INVESTICE\",List1!H125,0)","v":0}]
[{"$f":"IF(List1!A126=\"1a) DHDM\",List1!G126,0)","v":0},{"$f":"IF(List1!A126=\"1a) DHDM\",List1!H126,0)","v":0},{"$f":"IF(List1!A126=\"1b) DDNM\",List1!G126,0)","v":0},{"$f":"IF(List1!A126=\"1b) DDNM\",List1!H126,0)","v":0},{"$f":"IF(List1!A126=\"2) služby\",List1!G126,0)","v":0},{"$f":"IF(List1!A126=\"2) služby\",List1!H126,0)","v":0},{"$f":"IF(List1!A126=\"3) OON\",List1!G126,0)","v":0},{"$f":"IF(List1!A126=\"3) OON\",List1!H126,0)","v":0},{"$f":"IF(List1!A126=\"4) ostatní\",List1!G126,0)","v":0},{"$f":"IF(List1!A126=\"4) ostatní\",List1!H126,0)","v":0},{"$f":"IF(List1!A126=\"5) INVESTICE\",List1!G126,0)","v":0},{"$f":"IF(List1!A126=\"5) INVESTICE\",List1!H126,0)","v":0}]
[{"$f":"IF(List1!A127=\"1a) DHDM\",List1!G127,0)","v":0},{"$f":"IF(List1!A127=\"1a) DHDM\",List1!H127,0)","v":0},{"$f":"IF(List1!A127=\"1b) DDNM\",List1!G127,0)","v":0},{"$f":"IF(List1!A127=\"1b) DDNM\",List1!H127,0)","v":0},{"$f":"IF(List1!A127=\"2) služby\",List1!G127,0)","v":0},{"$f":"IF(List1!A127=\"2) služby\",List1!H127,0)","v":0},{"$f":"IF(List1!A127=\"3) OON\",List1!G127,0)","v":0},{"$f":"IF(List1!A127=\"3) OON\",List1!H127,0)","v":0},{"$f":"IF(List1!A127=\"4) ostatní\",List1!G127,0)","v":0},{"$f":"IF(List1!A127=\"4) ostatní\",List1!H127,0)","v":0},{"$f":"IF(List1!A127=\"5) INVESTICE\",List1!G127,0)","v":0},{"$f":"IF(List1!A127=\"5) INVESTICE\",List1!H127,0)","v":0}]
[{"$f":"IF(List1!A128=\"1a) DHDM\",List1!G128,0)","v":0},{"$f":"IF(List1!A128=\"1a) DHDM\",List1!H128,0)","v":0},{"$f":"IF(List1!A128=\"1b) DDNM\",List1!G128,0)","v":0},{"$f":"IF(List1!A128=\"1b) DDNM\",List1!H128,0)","v":0},{"$f":"IF(List1!A128=\"2) služby\",List1!G128,0)","v":0},{"$f":"IF(List1!A128=\"2) služby\",List1!H128,0)","v":0},{"$f":"IF(List1!A128=\"3) OON\",List1!G128,0)","v":0},{"$f":"IF(List1!A128=\"3) OON\",List1!H128,0)","v":0},{"$f":"IF(List1!A128=\"4) ostatní\",List1!G128,0)","v":0},{"$f":"IF(List1!A128=\"4) ostatní\",List1!H128,0)","v":0},{"$f":"IF(List1!A128=\"5) INVESTICE\",List1!G128,0)","v":0},{"$f":"IF(List1!A128=\"5) INVESTICE\",List1!H128,0)","v":0}]
[{"$f":"IF(List1!A129=\"1a) DHDM\",List1!G129,0)","v":0},{"$f":"IF(List1!A129=\"1a) DHDM\",List1!H129,0)","v":0},{"$f":"IF(List1!A129=\"1b) DDNM\",List1!G129,0)","v":0},{"$f":"IF(List1!A129=\"1b) DDNM\",List1!H129,0)","v":0},{"$f":"IF(List1!A129=\"2) služby\",List1!G129,0)","v":0},{"$f":"IF(List1!A129=\"2) služby\",List1!H129,0)","v":0},{"$f":"IF(List1!A129=\"3) OON\",List1!G129,0)","v":0},{"$f":"IF(List1!A129=\"3) OON\",List1!H129,0)","v":0},{"$f":"IF(List1!A129=\"4) ostatní\",List1!G129,0)","v":0},{"$f":"IF(List1!A129=\"4) ostatní\",List1!H129,0)","v":0},{"$f":"IF(List1!A129=\"5) INVESTICE\",List1!G129,0)","v":0},{"$f":"IF(List1!A129=\"5) INVESTICE\",List1!H129,0)","v":0}]
[{"$f":"IF(List1!A130=\"1a) DHDM\",List1!G130,0)","v":0},{"$f":"IF(List1!A130=\"1a) DHDM\",List1!H130,0)","v":0},{"$f":"IF(List1!A130=\"1b) DDNM\",List1!G130,0)","v":0},{"$f":"IF(List1!A130=\"1b) DDNM\",List1!H130,0)","v":0},{"$f":"IF(List1!A130=\"2) služby\",List1!G130,0)","v":0},{"$f":"IF(List1!A130=\"2) služby\",List1!H130,0)","v":0},{"$f":"IF(List1!A130=\"3) OON\",List1!G130,0)","v":0},{"$f":"IF(List1!A130=\"3) OON\",List1!H130,0)","v":0},{"$f":"IF(List1!A130=\"4) ostatní\",List1!G130,0)","v":0},{"$f":"IF(List1!A130=\"4) ostatní\",List1!H130,0)","v":0},{"$f":"IF(List1!A130=\"5) INVESTICE\",List1!G130,0)","v":0},{"$f":"IF(List1!A130=\"5) INVESTICE\",List1!H130,0)","v":0}]
[{"$f":"IF(List1!A131=\"1a) DHDM\",List1!G131,0)","v":0},{"$f":"IF(List1!A131=\"1a) DHDM\",List1!H131,0)","v":0},{"$f":"IF(List1!A131=\"1b) DDNM\",List1!G131,0)","v":0},{"$f":"IF(List1!A131=\"1b) DDNM\",List1!H131,0)","v":0},{"$f":"IF(List1!A131=\"2) služby\",List1!G131,0)","v":0},{"$f":"IF(List1!A131=\"2) služby\",List1!H131,0)","v":0},{"$f":"IF(List1!A131=\"3) OON\",List1!G131,0)","v":0},{"$f":"IF(List1!A131=\"3) OON\",List1!H131,0)","v":0},{"$f":"IF(List1!A131=\"4) ostatní\",List1!G131,0)","v":0},{"$f":"IF(List1!A131=\"4) ostatní\",List1!H131,0)","v":0},{"$f":"IF(List1!A131=\"5) INVESTICE\",List1!G131,0)","v":0},{"$f":"IF(List1!A131=\"5) INVESTICE\",List1!H131,0)","v":0}]
[{"$f":"IF(List1!A132=\"1a) DHDM\",List1!G132,0)","v":0},{"$f":"IF(List1!A132=\"1a) DHDM\",List1!H132,0)","v":0},{"$f":"IF(List1!A132=\"1b) DDNM\",List1!G132,0)","v":0},{"$f":"IF(List1!A132=\"1b) DDNM\",List1!H132,0)","v":0},{"$f":"IF(List1!A132=\"2) služby\",List1!G132,0)","v":0},{"$f":"IF(List1!A132=\"2) služby\",List1!H132,0)","v":0},{"$f":"IF(List1!A132=\"3) OON\",List1!G132,0)","v":0},{"$f":"IF(List1!A132=\"3) OON\",List1!H132,0)","v":0},{"$f":"IF(List1!A132=\"4) ostatní\",List1!G132,0)","v":0},{"$f":"IF(List1!A132=\"4) ostatní\",List1!H132,0)","v":0},{"$f":"IF(List1!A132=\"5) INVESTICE\",List1!G132,0)","v":0},{"$f":"IF(List1!A132=\"5) INVESTICE\",List1!H132,0)","v":0}]
[{"$f":"IF(List1!A133=\"1a) DHDM\",List1!G133,0)","v":0},{"$f":"IF(List1!A133=\"1a) DHDM\",List1!H133,0)","v":0},{"$f":"IF(List1!A133=\"1b) DDNM\",List1!G133,0)","v":0},{"$f":"IF(List1!A133=\"1b) DDNM\",List1!H133,0)","v":0},{"$f":"IF(List1!A133=\"2) služby\",List1!G133,0)","v":0},{"$f":"IF(List1!A133=\"2) služby\",List1!H133,0)","v":0},{"$f":"IF(List1!A133=\"3) OON\",List1!G133,0)","v":0},{"$f":"IF(List1!A133=\"3) OON\",List1!H133,0)","v":0},{"$f":"IF(List1!A133=\"4) ostatní\",List1!G133,0)","v":0},{"$f":"IF(List1!A133=\"4) ostatní\",List1!H133,0)","v":0},{"$f":"IF(List1!A133=\"5) INVESTICE\",List1!G133,0)","v":0},{"$f":"IF(List1!A133=\"5) INVESTICE\",List1!H133,0)","v":0}]
[{"$f":"IF(List1!A134=\"1a) DHDM\",List1!G134,0)","v":0},{"$f":"IF(List1!A134=\"1a) DHDM\",List1!H134,0)","v":0},{"$f":"IF(List1!A134=\"1b) DDNM\",List1!G134,0)","v":0},{"$f":"IF(List1!A134=\"1b) DDNM\",List1!H134,0)","v":0},{"$f":"IF(List1!A134=\"2) služby\",List1!G134,0)","v":0},{"$f":"IF(List1!A134=\"2) služby\",List1!H134,0)","v":0},{"$f":"IF(List1!A134=\"3) OON\",List1!G134,0)","v":0},{"$f":"IF(List1!A134=\"3) OON\",List1!H134,0)","v":0},{"$f":"IF(List1!A134=\"4) ostatní\",List1!G134,0)","v":0},{"$f":"IF(List1!A134=\"4) ostatní\",List1!H134,0)","v":0},{"$f":"IF(List1!A134=\"5) INVESTICE\",List1!G134,0)","v":0},{"$f":"IF(List1!A134=\"5) INVESTICE\",List1!H134,0)","v":0}]
[{"$f":"IF(List1!A135=\"1a) DHDM\",List1!G135,0)","v":0},{"$f":"IF(List1!A135=\"1a) DHDM\",List1!H135,0)","v":0},{"$f":"IF(List1!A135=\"1b) DDNM\",List1!G135,0)","v":0},{"$f":"IF(List1!A135=\"1b) DDNM\",List1!H135,0)","v":0},{"$f":"IF(List1!A135=\"2) služby\",List1!G135,0)","v":0},{"$f":"IF(List1!A135=\"2) služby\",List1!H135,0)","v":0},{"$f":"IF(List1!A135=\"3) OON\",List1!G135,0)","v":0},{"$f":"IF(List1!A135=\"3) OON\",List1!H135,0)","v":0},{"$f":"IF(List1!A135=\"4) ostatní\",List1!G135,0)","v":0},{"$f":"IF(List1!A135=\"4) ostatní\",List1!H135,0)","v":0},{"$f":"IF(List1!A135=\"5) INVESTICE\",List1!G135,0)","v":0},{"$f":"IF(List1!A135=\"5) INVESTICE\",List1!H135,0)","v":0}]
[{"$f":"IF(List1!A136=\"1a) DHDM\",List1!G136,0)","v":0},{"$f":"IF(List1!A136=\"1a) DHDM\",List1!H136,0)","v":0},{"$f":"IF(List1!A136=\"1b) DDNM\",List1!G136,0)","v":0},{"$f":"IF(List1!A136=\"1b) DDNM\",List1!H136,0)","v":0},{"$f":"IF(List1!A136=\"2) služby\",List1!G136,0)","v":0},{"$f":"IF(List1!A136=\"2) služby\",List1!H136,0)","v":0},{"$f":"IF(List1!A136=\"3) OON\",List1!G136,0)","v":0},{"$f":"IF(List1!A136=\"3) OON\",List1!H136,0)","v":0},{"$f":"IF(List1!A136=\"4) ostatní\",List1!G136,0)","v":0},{"$f":"IF(List1!A136=\"4) ostatní\",List1!H136,0)","v":0},{"$f":"IF(List1!A136=\"5) INVESTICE\",List1!G136,0)","v":0},{"$f":"IF(List1!A136=\"5) INVESTICE\",List1!H136,0)","v":0}]
[{"$f":"IF(List1!A137=\"1a) DHDM\",List1!G137,0)","v":0},{"$f":"IF(List1!A137=\"1a) DHDM\",List1!H137,0)","v":0},{"$f":"IF(List1!A137=\"1b) DDNM\",List1!G137,0)","v":0},{"$f":"IF(List1!A137=\"1b) DDNM\",List1!H137,0)","v":0},{"$f":"IF(List1!A137=\"2) služby\",List1!G137,0)","v":0},{"$f":"IF(List1!A137=\"2) služby\",List1!H137,0)","v":0},{"$f":"IF(List1!A137=\"3) OON\",List1!G137,0)","v":0},{"$f":"IF(List1!A137=\"3) OON\",List1!H137,0)","v":0},{"$f":"IF(List1!A137=\"4) ostatní\",List1!G137,0)","v":0},{"$f":"IF(List1!A137=\"4) ostatní\",List1!H137,0)","v":0},{"$f":"IF(List1!A137=\"5) INVESTICE\",List1!G137,0)","v":0},{"$f":"IF(List1!A137=\"5) INVESTICE\",List1!H137,0)","v":0}]
[{"$f":"IF(List1!A138=\"1a) DHDM\",List1!G138,0)","v":0},{"$f":"IF(List1!A138=\"1a) DHDM\",List1!H138,0)","v":0},{"$f":"IF(List1!A138=\"1b) DDNM\",List1!G138,0)","v":0},{"$f":"IF(List1!A138=\"1b) DDNM\",List1!H138,0)","v":0},{"$f":"IF(List1!A138=\"2) služby\",List1!G138,0)","v":0},{"$f":"IF(List1!A138=\"2) služby\",List1!H138,0)","v":0},{"$f":"IF(List1!A138=\"3) OON\",List1!G138,0)","v":0},{"$f":"IF(List1!A138=\"3) OON\",List1!H138,0)","v":0},{"$f":"IF(List1!A138=\"4) ostatní\",List1!G138,0)","v":0},{"$f":"IF(List1!A138=\"4) ostatní\",List1!H138,0)","v":0},{"$f":"IF(List1!A138=\"5) INVESTICE\",List1!G138,0)","v":0},{"$f":"IF(List1!A138=\"5) INVESTICE\",List1!H138,0)","v":0}]
[{"$f":"IF(List1!A139=\"1a) DHDM\",List1!G139,0)","v":0},{"$f":"IF(List1!A139=\"1a) DHDM\",List1!H139,0)","v":0},{"$f":"IF(List1!A139=\"1b) DDNM\",List1!G139,0)","v":0},{"$f":"IF(List1!A139=\"1b) DDNM\",List1!H139,0)","v":0},{"$f":"IF(List1!A139=\"2) služby\",List1!G139,0)","v":0},{"$f":"IF(List1!A139=\"2) služby\",List1!H139,0)","v":0},{"$f":"IF(List1!A139=\"3) OON\",List1!G139,0)","v":0},{"$f":"IF(List1!A139=\"3) OON\",List1!H139,0)","v":0},{"$f":"IF(List1!A139=\"4) ostatní\",List1!G139,0)","v":0},{"$f":"IF(List1!A139=\"4) ostatní\",List1!H139,0)","v":0},{"$f":"IF(List1!A139=\"5) INVESTICE\",List1!G139,0)","v":0},{"$f":"IF(List1!A139=\"5) INVESTICE\",List1!H139,0)","v":0}]
[{"$f":"IF(List1!A140=\"1a) DHDM\",List1!G140,0)","v":0},{"$f":"IF(List1!A140=\"1a) DHDM\",List1!H140,0)","v":0},{"$f":"IF(List1!A140=\"1b) DDNM\",List1!G140,0)","v":0},{"$f":"IF(List1!A140=\"1b) DDNM\",List1!H140,0)","v":0},{"$f":"IF(List1!A140=\"2) služby\",List1!G140,0)","v":0},{"$f":"IF(List1!A140=\"2) služby\",List1!H140,0)","v":0},{"$f":"IF(List1!A140=\"3) OON\",List1!G140,0)","v":0},{"$f":"IF(List1!A140=\"3) OON\",List1!H140,0)","v":0},{"$f":"IF(List1!A140=\"4) ostatní\",List1!G140,0)","v":0},{"$f":"IF(List1!A140=\"4) ostatní\",List1!H140,0)","v":0},{"$f":"IF(List1!A140=\"5) INVESTICE\",List1!G140,0)","v":0},{"$f":"IF(List1!A140=\"5) INVESTICE\",List1!H140,0)","v":0}]
[{"$f":"IF(List1!A141=\"1a) DHDM\",List1!G141,0)","v":0},{"$f":"IF(List1!A141=\"1a) DHDM\",List1!H141,0)","v":0},{"$f":"IF(List1!A141=\"1b) DDNM\",List1!G141,0)","v":0},{"$f":"IF(List1!A141=\"1b) DDNM\",List1!H141,0)","v":0},{"$f":"IF(List1!A141=\"2) služby\",List1!G141,0)","v":0},{"$f":"IF(List1!A141=\"2) služby\",List1!H141,0)","v":0},{"$f":"IF(List1!A141=\"3) OON\",List1!G141,0)","v":0},{"$f":"IF(List1!A141=\"3) OON\",List1!H141,0)","v":0},{"$f":"IF(List1!A141=\"4) ostatní\",List1!G141,0)","v":0},{"$f":"IF(List1!A141=\"4) ostatní\",List1!H141,0)","v":0},{"$f":"IF(List1!A141=\"5) INVESTICE\",List1!G141,0)","v":0},{"$f":"IF(List1!A141=\"5) INVESTICE\",List1!H141,0)","v":0}]
[{"$f":"IF(List1!A142=\"1a) DHDM\",List1!G142,0)","v":0},{"$f":"IF(List1!A142=\"1a) DHDM\",List1!H142,0)","v":0},{"$f":"IF(List1!A142=\"1b) DDNM\",List1!G142,0)","v":0},{"$f":"IF(List1!A142=\"1b) DDNM\",List1!H142,0)","v":0},{"$f":"IF(List1!A142=\"2) služby\",List1!G142,0)","v":0},{"$f":"IF(List1!A142=\"2) služby\",List1!H142,0)","v":0},{"$f":"IF(List1!A142=\"3) OON\",List1!G142,0)","v":0},{"$f":"IF(List1!A142=\"3) OON\",List1!H142,0)","v":0},{"$f":"IF(List1!A142=\"4) ostatní\",List1!G142,0)","v":0},{"$f":"IF(List1!A142=\"4) ostatní\",List1!H142,0)","v":0},{"$f":"IF(List1!A142=\"5) INVESTICE\",List1!G142,0)","v":0},{"$f":"IF(List1!A142=\"5) INVESTICE\",List1!H142,0)","v":0}]
[{"$f":"IF(List1!A143=\"1a) DHDM\",List1!G143,0)","v":0},{"$f":"IF(List1!A143=\"1a) DHDM\",List1!H143,0)","v":0},{"$f":"IF(List1!A143=\"1b) DDNM\",List1!G143,0)","v":0},{"$f":"IF(List1!A143=\"1b) DDNM\",List1!H143,0)","v":0},{"$f":"IF(List1!A143=\"2) služby\",List1!G143,0)","v":0},{"$f":"IF(List1!A143=\"2) služby\",List1!H143,0)","v":0},{"$f":"IF(List1!A143=\"3) OON\",List1!G143,0)","v":0},{"$f":"IF(List1!A143=\"3) OON\",List1!H143,0)","v":0},{"$f":"IF(List1!A143=\"4) ostatní\",List1!G143,0)","v":0},{"$f":"IF(List1!A143=\"4) ostatní\",List1!H143,0)","v":0},{"$f":"IF(List1!A143=\"5) INVESTICE\",List1!G143,0)","v":0},{"$f":"IF(List1!A143=\"5) INVESTICE\",List1!H143,0)","v":0}]
[{"$f":"IF(List1!A144=\"1a) DHDM\",List1!G144,0)","v":0},{"$f":"IF(List1!A144=\"1a) DHDM\",List1!H144,0)","v":0},{"$f":"IF(List1!A144=\"1b) DDNM\",List1!G144,0)","v":0},{"$f":"IF(List1!A144=\"1b) DDNM\",List1!H144,0)","v":0},{"$f":"IF(List1!A144=\"2) služby\",List1!G144,0)","v":0},{"$f":"IF(List1!A144=\"2) služby\",List1!H144,0)","v":0},{"$f":"IF(List1!A144=\"3) OON\",List1!G144,0)","v":0},{"$f":"IF(List1!A144=\"3) OON\",List1!H144,0)","v":0},{"$f":"IF(List1!A144=\"4) ostatní\",List1!G144,0)","v":0},{"$f":"IF(List1!A144=\"4) ostatní\",List1!H144,0)","v":0},{"$f":"IF(List1!A144=\"5) INVESTICE\",List1!G144,0)","v":0},{"$f":"IF(List1!A144=\"5) INVESTICE\",List1!H144,0)","v":0}]
[{"$f":"IF(List1!A145=\"1a) DHDM\",List1!G145,0)","v":0},{"$f":"IF(List1!A145=\"1a) DHDM\",List1!H145,0)","v":0},{"$f":"IF(List1!A145=\"1b) DDNM\",List1!G145,0)","v":0},{"$f":"IF(List1!A145=\"1b) DDNM\",List1!H145,0)","v":0},{"$f":"IF(List1!A145=\"2) služby\",List1!G145,0)","v":0},{"$f":"IF(List1!A145=\"2) služby\",List1!H145,0)","v":0},{"$f":"IF(List1!A145=\"3) OON\",List1!G145,0)","v":0},{"$f":"IF(List1!A145=\"3) OON\",List1!H145,0)","v":0},{"$f":"IF(List1!A145=\"4) ostatní\",List1!G145,0)","v":0},{"$f":"IF(List1!A145=\"4) ostatní\",List1!H145,0)","v":0},{"$f":"IF(List1!A145=\"5) INVESTICE\",List1!G145,0)","v":0},{"$f":"IF(List1!A145=\"5) INVESTICE\",List1!H145,0)","v":0}]
[{"$f":"IF(List1!A146=\"1a) DHDM\",List1!G146,0)","v":0},{"$f":"IF(List1!A146=\"1a) DHDM\",List1!H146,0)","v":0},{"$f":"IF(List1!A146=\"1b) DDNM\",List1!G146,0)","v":0},{"$f":"IF(List1!A146=\"1b) DDNM\",List1!H146,0)","v":0},{"$f":"IF(List1!A146=\"2) služby\",List1!G146,0)","v":0},{"$f":"IF(List1!A146=\"2) služby\",List1!H146,0)","v":0},{"$f":"IF(List1!A146=\"3) OON\",List1!G146,0)","v":0},{"$f":"IF(List1!A146=\"3) OON\",List1!H146,0)","v":0},{"$f":"IF(List1!A146=\"4) ostatní\",List1!G146,0)","v":0},{"$f":"IF(List1!A146=\"4) ostatní\",List1!H146,0)","v":0},{"$f":"IF(List1!A146=\"5) INVESTICE\",List1!G146,0)","v":0},{"$f":"IF(List1!A146=\"5) INVESTICE\",List1!H146,0)","v":0}]
[{"$f":"IF(List1!A147=\"1a) DHDM\",List1!G147,0)","v":0},{"$f":"IF(List1!A147=\"1a) DHDM\",List1!H147,0)","v":0},{"$f":"IF(List1!A147=\"1b) DDNM\",List1!G147,0)","v":0},{"$f":"IF(List1!A147=\"1b) DDNM\",List1!H147,0)","v":0},{"$f":"IF(List1!A147=\"2) služby\",List1!G147,0)","v":0},{"$f":"IF(List1!A147=\"2) služby\",List1!H147,0)","v":0},{"$f":"IF(List1!A147=\"3) OON\",List1!G147,0)","v":0},{"$f":"IF(List1!A147=\"3) OON\",List1!H147,0)","v":0},{"$f":"IF(List1!A147=\"4) ostatní\",List1!G147,0)","v":0},{"$f":"IF(List1!A147=\"4) ostatní\",List1!H147,0)","v":0},{"$f":"IF(List1!A147=\"5) INVESTICE\",List1!G147,0)","v":0},{"$f":"IF(List1!A147=\"5) INVESTICE\",List1!H147,0)","v":0}]
[{"$f":"IF(List1!A148=\"1a) DHDM\",List1!G148,0)","v":0},{"$f":"IF(List1!A148=\"1a) DHDM\",List1!H148,0)","v":0},{"$f":"IF(List1!A148=\"1b) DDNM\",List1!G148,0)","v":0},{"$f":"IF(List1!A148=\"1b) DDNM\",List1!H148,0)","v":0},{"$f":"IF(List1!A148=\"2) služby\",List1!G148,0)","v":0},{"$f":"IF(List1!A148=\"2) služby\",List1!H148,0)","v":0},{"$f":"IF(List1!A148=\"3) OON\",List1!G148,0)","v":0},{"$f":"IF(List1!A148=\"3) OON\",List1!H148,0)","v":0},{"$f":"IF(List1!A148=\"4) ostatní\",List1!G148,0)","v":0},{"$f":"IF(List1!A148=\"4) ostatní\",List1!H148,0)","v":0},{"$f":"IF(List1!A148=\"5) INVESTICE\",List1!G148,0)","v":0},{"$f":"IF(List1!A148=\"5) INVESTICE\",List1!H148,0)","v":0}]
[{"$f":"IF(List1!A149=\"1a) DHDM\",List1!G149,0)","v":0},{"$f":"IF(List1!A149=\"1a) DHDM\",List1!H149,0)","v":0},{"$f":"IF(List1!A149=\"1b) DDNM\",List1!G149,0)","v":0},{"$f":"IF(List1!A149=\"1b) DDNM\",List1!H149,0)","v":0},{"$f":"IF(List1!A149=\"2) služby\",List1!G149,0)","v":0},{"$f":"IF(List1!A149=\"2) služby\",List1!H149,0)","v":0},{"$f":"IF(List1!A149=\"3) OON\",List1!G149,0)","v":0},{"$f":"IF(List1!A149=\"3) OON\",List1!H149,0)","v":0},{"$f":"IF(List1!A149=\"4) ostatní\",List1!G149,0)","v":0},{"$f":"IF(List1!A149=\"4) ostatní\",List1!H149,0)","v":0},{"$f":"IF(List1!A149=\"5) INVESTICE\",List1!G149,0)","v":0},{"$f":"IF(List1!A149=\"5) INVESTICE\",List1!H149,0)","v":0}]
[{"$f":"IF(List1!A150=\"1a) DHDM\",List1!G150,0)","v":0},{"$f":"IF(List1!A150=\"1a) DHDM\",List1!H150,0)","v":0},{"$f":"IF(List1!A150=\"1b) DDNM\",List1!G150,0)","v":0},{"$f":"IF(List1!A150=\"1b) DDNM\",List1!H150,0)","v":0},{"$f":"IF(List1!A150=\"2) služby\",List1!G150,0)","v":0},{"$f":"IF(List1!A150=\"2) služby\",List1!H150,0)","v":0},{"$f":"IF(List1!A150=\"3) OON\",List1!G150,0)","v":0},{"$f":"IF(List1!A150=\"3) OON\",List1!H150,0)","v":0},{"$f":"IF(List1!A150=\"4) ostatní\",List1!G150,0)","v":0},{"$f":"IF(List1!A150=\"4) ostatní\",List1!H150,0)","v":0},{"$f":"IF(List1!A150=\"5) INVESTICE\",List1!G150,0)","v":0},{"$f":"IF(List1!A150=\"5) INVESTICE\",List1!H150,0)","v":0}]
[{"$f":"IF(List1!A151=\"1a) DHDM\",List1!G151,0)","v":0},{"$f":"IF(List1!A151=\"1a) DHDM\",List1!H151,0)","v":0},{"$f":"IF(List1!A151=\"1b) DDNM\",List1!G151,0)","v":0},{"$f":"IF(List1!A151=\"1b) DDNM\",List1!H151,0)","v":0},{"$f":"IF(List1!A151=\"2) služby\",List1!G151,0)","v":0},{"$f":"IF(List1!A151=\"2) služby\",List1!H151,0)","v":0},{"$f":"IF(List1!A151=\"3) OON\",List1!G151,0)","v":0},{"$f":"IF(List1!A151=\"3) OON\",List1!H151,0)","v":0},{"$f":"IF(List1!A151=\"4) ostatní\",List1!G151,0)","v":0},{"$f":"IF(List1!A151=\"4) ostatní\",List1!H151,0)","v":0},{"$f":"IF(List1!A151=\"5) INVESTICE\",List1!G151,0)","v":0},{"$f":"IF(List1!A151=\"5) INVESTICE\",List1!H151,0)","v":0}]
[{"$f":"IF(List1!A152=\"1a) DHDM\",List1!G152,0)","v":0},{"$f":"IF(List1!A152=\"1a) DHDM\",List1!H152,0)","v":0},{"$f":"IF(List1!A152=\"1b) DDNM\",List1!G152,0)","v":0},{"$f":"IF(List1!A152=\"1b) DDNM\",List1!H152,0)","v":0},{"$f":"IF(List1!A152=\"2) služby\",List1!G152,0)","v":0},{"$f":"IF(List1!A152=\"2) služby\",List1!H152,0)","v":0},{"$f":"IF(List1!A152=\"3) OON\",List1!G152,0)","v":0},{"$f":"IF(List1!A152=\"3) OON\",List1!H152,0)","v":0},{"$f":"IF(List1!A152=\"4) ostatní\",List1!G152,0)","v":0},{"$f":"IF(List1!A152=\"4) ostatní\",List1!H152,0)","v":0},{"$f":"IF(List1!A152=\"5) INVESTICE\",List1!G152,0)","v":0},{"$f":"IF(List1!A152=\"5) INVESTICE\",List1!H152,0)","v":0}]
[{"$f":"IF(List1!A153=\"1a) DHDM\",List1!G153,0)","v":0},{"$f":"IF(List1!A153=\"1a) DHDM\",List1!H153,0)","v":0},{"$f":"IF(List1!A153=\"1b) DDNM\",List1!G153,0)","v":0},{"$f":"IF(List1!A153=\"1b) DDNM\",List1!H153,0)","v":0},{"$f":"IF(List1!A153=\"2) služby\",List1!G153,0)","v":0},{"$f":"IF(List1!A153=\"2) služby\",List1!H153,0)","v":0},{"$f":"IF(List1!A153=\"3) OON\",List1!G153,0)","v":0},{"$f":"IF(List1!A153=\"3) OON\",List1!H153,0)","v":0},{"$f":"IF(List1!A153=\"4) ostatní\",List1!G153,0)","v":0},{"$f":"IF(List1!A153=\"4) ostatní\",List1!H153,0)","v":0},{"$f":"IF(List1!A153=\"5) INVESTICE\",List1!G153,0)","v":0},{"$f":"IF(List1!A153=\"5) INVESTICE\",List1!H153,0)","v":0}]
[{"$f":"IF(List1!A154=\"1a) DHDM\",List1!G154,0)","v":0},{"$f":"IF(List1!A154=\"1a) DHDM\",List1!H154,0)","v":0},{"$f":"IF(List1!A154=\"1b) DDNM\",List1!G154,0)","v":0},{"$f":"IF(List1!A154=\"1b) DDNM\",List1!H154,0)","v":0},{"$f":"IF(List1!A154=\"2) služby\",List1!G154,0)","v":0},{"$f":"IF(List1!A154=\"2) služby\",List1!H154,0)","v":0},{"$f":"IF(List1!A154=\"3) OON\",List1!G154,0)","v":0},{"$f":"IF(List1!A154=\"3) OON\",List1!H154,0)","v":0},{"$f":"IF(List1!A154=\"4) ostatní\",List1!G154,0)","v":0},{"$f":"IF(List1!A154=\"4) ostatní\",List1!H154,0)","v":0},{"$f":"IF(List1!A154=\"5) INVESTICE\",List1!G154,0)","v":0},{"$f":"IF(List1!A154=\"5) INVESTICE\",List1!H154,0)","v":0}]
[{"$f":"IF(List1!A155=\"1a) DHDM\",List1!G155,0)","v":0},{"$f":"IF(List1!A155=\"1a) DHDM\",List1!H155,0)","v":0},{"$f":"IF(List1!A155=\"1b) DDNM\",List1!G155,0)","v":0},{"$f":"IF(List1!A155=\"1b) DDNM\",List1!H155,0)","v":0},{"$f":"IF(List1!A155=\"2) služby\",List1!G155,0)","v":0},{"$f":"IF(List1!A155=\"2) služby\",List1!H155,0)","v":0},{"$f":"IF(List1!A155=\"3) OON\",List1!G155,0)","v":0},{"$f":"IF(List1!A155=\"3) OON\",List1!H155,0)","v":0},{"$f":"IF(List1!A155=\"4) ostatní\",List1!G155,0)","v":0},{"$f":"IF(List1!A155=\"4) ostatní\",List1!H155,0)","v":0},{"$f":"IF(List1!A155=\"5) INVESTICE\",List1!G155,0)","v":0},{"$f":"IF(List1!A155=\"5) INVESTICE\",List1!H155,0)","v":0}]
[{"$f":"IF(List1!A156=\"1a) DHDM\",List1!G156,0)","v":0},{"$f":"IF(List1!A156=\"1a) DHDM\",List1!H156,0)","v":0},{"$f":"IF(List1!A156=\"1b) DDNM\",List1!G156,0)","v":0},{"$f":"IF(List1!A156=\"1b) DDNM\",List1!H156,0)","v":0},{"$f":"IF(List1!A156=\"2) služby\",List1!G156,0)","v":0},{"$f":"IF(List1!A156=\"2) služby\",List1!H156,0)","v":0},{"$f":"IF(List1!A156=\"3) OON\",List1!G156,0)","v":0},{"$f":"IF(List1!A156=\"3) OON\",List1!H156,0)","v":0},{"$f":"IF(List1!A156=\"4) ostatní\",List1!G156,0)","v":0},{"$f":"IF(List1!A156=\"4) ostatní\",List1!H156,0)","v":0},{"$f":"IF(List1!A156=\"5) INVESTICE\",List1!G156,0)","v":0},{"$f":"IF(List1!A156=\"5) INVESTICE\",List1!H156,0)","v":0}]
[{"$f":"IF(List1!A157=\"1a) DHDM\",List1!G157,0)","v":0},{"$f":"IF(List1!A157=\"1a) DHDM\",List1!H157,0)","v":0},{"$f":"IF(List1!A157=\"1b) DDNM\",List1!G157,0)","v":0},{"$f":"IF(List1!A157=\"1b) DDNM\",List1!H157,0)","v":0},{"$f":"IF(List1!A157=\"2) služby\",List1!G157,0)","v":0},{"$f":"IF(List1!A157=\"2) služby\",List1!H157,0)","v":0},{"$f":"IF(List1!A157=\"3) OON\",List1!G157,0)","v":0},{"$f":"IF(List1!A157=\"3) OON\",List1!H157,0)","v":0},{"$f":"IF(List1!A157=\"4) ostatní\",List1!G157,0)","v":0},{"$f":"IF(List1!A157=\"4) ostatní\",List1!H157,0)","v":0},{"$f":"IF(List1!A157=\"5) INVESTICE\",List1!G157,0)","v":0},{"$f":"IF(List1!A157=\"5) INVESTICE\",List1!H157,0)","v":0}]
[{"$f":"IF(List1!A158=\"1a) DHDM\",List1!G158,0)","v":0},{"$f":"IF(List1!A158=\"1a) DHDM\",List1!H158,0)","v":0},{"$f":"IF(List1!A158=\"1b) DDNM\",List1!G158,0)","v":0},{"$f":"IF(List1!A158=\"1b) DDNM\",List1!H158,0)","v":0},{"$f":"IF(List1!A158=\"2) služby\",List1!G158,0)","v":0},{"$f":"IF(List1!A158=\"2) služby\",List1!H158,0)","v":0},{"$f":"IF(List1!A158=\"3) OON\",List1!G158,0)","v":0},{"$f":"IF(List1!A158=\"3) OON\",List1!H158,0)","v":0},{"$f":"IF(List1!A158=\"4) ostatní\",List1!G158,0)","v":0},{"$f":"IF(List1!A158=\"4) ostatní\",List1!H158,0)","v":0},{"$f":"IF(List1!A158=\"5) INVESTICE\",List1!G158,0)","v":0},{"$f":"IF(List1!A158=\"5) INVESTICE\",List1!H158,0)","v":0}]
[{"$f":"IF(List1!A159=\"1a) DHDM\",List1!G159,0)","v":0},{"$f":"IF(List1!A159=\"1a) DHDM\",List1!H159,0)","v":0},{"$f":"IF(List1!A159=\"1b) DDNM\",List1!G159,0)","v":0},{"$f":"IF(List1!A159=\"1b) DDNM\",List1!H159,0)","v":0},{"$f":"IF(List1!A159=\"2) služby\",List1!G159,0)","v":0},{"$f":"IF(List1!A159=\"2) služby\",List1!H159,0)","v":0},{"$f":"IF(List1!A159=\"3) OON\",List1!G159,0)","v":0},{"$f":"IF(List1!A159=\"3) OON\",List1!H159,0)","v":0},{"$f":"IF(List1!A159=\"4) ostatní\",List1!G159,0)","v":0},{"$f":"IF(List1!A159=\"4) ostatní\",List1!H159,0)","v":0},{"$f":"IF(List1!A159=\"5) INVESTICE\",List1!G159,0)","v":0},{"$f":"IF(List1!A159=\"5) INVESTICE\",List1!H159,0)","v":0}]
[{"$f":"IF(List1!A160=\"1a) DHDM\",List1!G160,0)","v":0},{"$f":"IF(List1!A160=\"1a) DHDM\",List1!H160,0)","v":0},{"$f":"IF(List1!A160=\"1b) DDNM\",List1!G160,0)","v":0},{"$f":"IF(List1!A160=\"1b) DDNM\",List1!H160,0)","v":0},{"$f":"IF(List1!A160=\"2) služby\",List1!G160,0)","v":0},{"$f":"IF(List1!A160=\"2) služby\",List1!H160,0)","v":0},{"$f":"IF(List1!A160=\"3) OON\",List1!G160,0)","v":0},{"$f":"IF(List1!A160=\"3) OON\",List1!H160,0)","v":0},{"$f":"IF(List1!A160=\"4) ostatní\",List1!G160,0)","v":0},{"$f":"IF(List1!A160=\"4) ostatní\",List1!H160,0)","v":0},{"$f":"IF(List1!A160=\"5) INVESTICE\",List1!G160,0)","v":0},{"$f":"IF(List1!A160=\"5) INVESTICE\",List1!H160,0)","v":0}]
[{"$f":"IF(List1!A161=\"1a) DHDM\",List1!G161,0)","v":0},{"$f":"IF(List1!A161=\"1a) DHDM\",List1!H161,0)","v":0},{"$f":"IF(List1!A161=\"1b) DDNM\",List1!G161,0)","v":0},{"$f":"IF(List1!A161=\"1b) DDNM\",List1!H161,0)","v":0},{"$f":"IF(List1!A161=\"2) služby\",List1!G161,0)","v":0},{"$f":"IF(List1!A161=\"2) služby\",List1!H161,0)","v":0},{"$f":"IF(List1!A161=\"3) OON\",List1!G161,0)","v":0},{"$f":"IF(List1!A161=\"3) OON\",List1!H161,0)","v":0},{"$f":"IF(List1!A161=\"4) ostatní\",List1!G161,0)","v":0},{"$f":"IF(List1!A161=\"4) ostatní\",List1!H161,0)","v":0},{"$f":"IF(List1!A161=\"5) INVESTICE\",List1!G161,0)","v":0},{"$f":"IF(List1!A161=\"5) INVESTICE\",List1!H161,0)","v":0}]
[{"$f":"IF(List1!A162=\"1a) DHDM\",List1!G162,0)","v":0},{"$f":"IF(List1!A162=\"1a) DHDM\",List1!H162,0)","v":0},{"$f":"IF(List1!A162=\"1b) DDNM\",List1!G162,0)","v":0},{"$f":"IF(List1!A162=\"1b) DDNM\",List1!H162,0)","v":0},{"$f":"IF(List1!A162=\"2) služby\",List1!G162,0)","v":0},{"$f":"IF(List1!A162=\"2) služby\",List1!H162,0)","v":0},{"$f":"IF(List1!A162=\"3) OON\",List1!G162,0)","v":0},{"$f":"IF(List1!A162=\"3) OON\",List1!H162,0)","v":0},{"$f":"IF(List1!A162=\"4) ostatní\",List1!G162,0)","v":0},{"$f":"IF(List1!A162=\"4) ostatní\",List1!H162,0)","v":0},{"$f":"IF(List1!A162=\"5) INVESTICE\",List1!G162,0)","v":0},{"$f":"IF(List1!A162=\"5) INVESTICE\",List1!H162,0)","v":0}]
[{"$f":"IF(List1!A163=\"1a) DHDM\",List1!G163,0)","v":0},{"$f":"IF(List1!A163=\"1a) DHDM\",List1!H163,0)","v":0},{"$f":"IF(List1!A163=\"1b) DDNM\",List1!G163,0)","v":0},{"$f":"IF(List1!A163=\"1b) DDNM\",List1!H163,0)","v":0},{"$f":"IF(List1!A163=\"2) služby\",List1!G163,0)","v":0},{"$f":"IF(List1!A163=\"2) služby\",List1!H163,0)","v":0},{"$f":"IF(List1!A163=\"3) OON\",List1!G163,0)","v":0},{"$f":"IF(List1!A163=\"3) OON\",List1!H163,0)","v":0},{"$f":"IF(List1!A163=\"4) ostatní\",List1!G163,0)","v":0},{"$f":"IF(List1!A163=\"4) ostatní\",List1!H163,0)","v":0},{"$f":"IF(List1!A163=\"5) INVESTICE\",List1!G163,0)","v":0},{"$f":"IF(List1!A163=\"5) INVESTICE\",List1!H163,0)","v":0}]
[{"$f":"IF(List1!A164=\"1a) DHDM\",List1!G164,0)","v":0},{"$f":"IF(List1!A164=\"1a) DHDM\",List1!H164,0)","v":0},{"$f":"IF(List1!A164=\"1b) DDNM\",List1!G164,0)","v":0},{"$f":"IF(List1!A164=\"1b) DDNM\",List1!H164,0)","v":0},{"$f":"IF(List1!A164=\"2) služby\",List1!G164,0)","v":0},{"$f":"IF(List1!A164=\"2) služby\",List1!H164,0)","v":0},{"$f":"IF(List1!A164=\"3) OON\",List1!G164,0)","v":0},{"$f":"IF(List1!A164=\"3) OON\",List1!H164,0)","v":0},{"$f":"IF(List1!A164=\"4) ostatní\",List1!G164,0)","v":0},{"$f":"IF(List1!A164=\"4) ostatní\",List1!H164,0)","v":0},{"$f":"IF(List1!A164=\"5) INVESTICE\",List1!G164,0)","v":0},{"$f":"IF(List1!A164=\"5) INVESTICE\",List1!H164,0)","v":0}]
[{"$f":"IF(List1!A165=\"1a) DHDM\",List1!G165,0)","v":0},{"$f":"IF(List1!A165=\"1a) DHDM\",List1!H165,0)","v":0},{"$f":"IF(List1!A165=\"1b) DDNM\",List1!G165,0)","v":0},{"$f":"IF(List1!A165=\"1b) DDNM\",List1!H165,0)","v":0},{"$f":"IF(List1!A165=\"2) služby\",List1!G165,0)","v":0},{"$f":"IF(List1!A165=\"2) služby\",List1!H165,0)","v":0},{"$f":"IF(List1!A165=\"3) OON\",List1!G165,0)","v":0},{"$f":"IF(List1!A165=\"3) OON\",List1!H165,0)","v":0},{"$f":"IF(List1!A165=\"4) ostatní\",List1!G165,0)","v":0},{"$f":"IF(List1!A165=\"4) ostatní\",List1!H165,0)","v":0},{"$f":"IF(List1!A165=\"5) INVESTICE\",List1!G165,0)","v":0},{"$f":"IF(List1!A165=\"5) INVESTICE\",List1!H165,0)","v":0}]
[{"$f":"IF(List1!A166=\"1a) DHDM\",List1!G166,0)","v":0},{"$f":"IF(List1!A166=\"1a) DHDM\",List1!H166,0)","v":0},{"$f":"IF(List1!A166=\"1b) DDNM\",List1!G166,0)","v":0},{"$f":"IF(List1!A166=\"1b) DDNM\",List1!H166,0)","v":0},{"$f":"IF(List1!A166=\"2) služby\",List1!G166,0)","v":0},{"$f":"IF(List1!A166=\"2) služby\",List1!H166,0)","v":0},{"$f":"IF(List1!A166=\"3) OON\",List1!G166,0)","v":0},{"$f":"IF(List1!A166=\"3) OON\",List1!H166,0)","v":0},{"$f":"IF(List1!A166=\"4) ostatní\",List1!G166,0)","v":0},{"$f":"IF(List1!A166=\"4) ostatní\",List1!H166,0)","v":0},{"$f":"IF(List1!A166=\"5) INVESTICE\",List1!G166,0)","v":0},{"$f":"IF(List1!A166=\"5) INVESTICE\",List1!H166,0)","v":0}]
[{"$f":"IF(List1!A167=\"1a) DHDM\",List1!G167,0)","v":0},{"$f":"IF(List1!A167=\"1a) DHDM\",List1!H167,0)","v":0},{"$f":"IF(List1!A167=\"1b) DDNM\",List1!G167,0)","v":0},{"$f":"IF(List1!A167=\"1b) DDNM\",List1!H167,0)","v":0},{"$f":"IF(List1!A167=\"2) služby\",List1!G167,0)","v":0},{"$f":"IF(List1!A167=\"2) služby\",List1!H167,0)","v":0},{"$f":"IF(List1!A167=\"3) OON\",List1!G167,0)","v":0},{"$f":"IF(List1!A167=\"3) OON\",List1!H167,0)","v":0},{"$f":"IF(List1!A167=\"4) ostatní\",List1!G167,0)","v":0},{"$f":"IF(List1!A167=\"4) ostatní\",List1!H167,0)","v":0},{"$f":"IF(List1!A167=\"5) INVESTICE\",List1!G167,0)","v":0},{"$f":"IF(List1!A167=\"5) INVESTICE\",List1!H167,0)","v":0}]
[{"$f":"IF(List1!A168=\"1a) DHDM\",List1!G168,0)","v":0},{"$f":"IF(List1!A168=\"1a) DHDM\",List1!H168,0)","v":0},{"$f":"IF(List1!A168=\"1b) DDNM\",List1!G168,0)","v":0},{"$f":"IF(List1!A168=\"1b) DDNM\",List1!H168,0)","v":0},{"$f":"IF(List1!A168=\"2) služby\",List1!G168,0)","v":0},{"$f":"IF(List1!A168=\"2) služby\",List1!H168,0)","v":0},{"$f":"IF(List1!A168=\"3) OON\",List1!G168,0)","v":0},{"$f":"IF(List1!A168=\"3) OON\",List1!H168,0)","v":0},{"$f":"IF(List1!A168=\"4) ostatní\",List1!G168,0)","v":0},{"$f":"IF(List1!A168=\"4) ostatní\",List1!H168,0)","v":0},{"$f":"IF(List1!A168=\"5) INVESTICE\",List1!G168,0)","v":0},{"$f":"IF(List1!A168=\"5) INVESTICE\",List1!H168,0)","v":0}]
[{"$f":"IF(List1!A169=\"1a) DHDM\",List1!G169,0)","v":0},{"$f":"IF(List1!A169=\"1a) DHDM\",List1!H169,0)","v":0},{"$f":"IF(List1!A169=\"1b) DDNM\",List1!G169,0)","v":0},{"$f":"IF(List1!A169=\"1b) DDNM\",List1!H169,0)","v":0},{"$f":"IF(List1!A169=\"2) služby\",List1!G169,0)","v":0},{"$f":"IF(List1!A169=\"2) služby\",List1!H169,0)","v":0},{"$f":"IF(List1!A169=\"3) OON\",List1!G169,0)","v":0},{"$f":"IF(List1!A169=\"3) OON\",List1!H169,0)","v":0},{"$f":"IF(List1!A169=\"4) ostatní\",List1!G169,0)","v":0},{"$f":"IF(List1!A169=\"4) ostatní\",List1!H169,0)","v":0},{"$f":"IF(List1!A169=\"5) INVESTICE\",List1!G169,0)","v":0},{"$f":"IF(List1!A169=\"5) INVESTICE\",List1!H169,0)","v":0}]
[{"$f":"IF(List1!A170=\"1a) DHDM\",List1!G170,0)","v":0},{"$f":"IF(List1!A170=\"1a) DHDM\",List1!H170,0)","v":0},{"$f":"IF(List1!A170=\"1b) DDNM\",List1!G170,0)","v":0},{"$f":"IF(List1!A170=\"1b) DDNM\",List1!H170,0)","v":0},{"$f":"IF(List1!A170=\"2) služby\",List1!G170,0)","v":0},{"$f":"IF(List1!A170=\"2) služby\",List1!H170,0)","v":0},{"$f":"IF(List1!A170=\"3) OON\",List1!G170,0)","v":0},{"$f":"IF(List1!A170=\"3) OON\",List1!H170,0)","v":0},{"$f":"IF(List1!A170=\"4) ostatní\",List1!G170,0)","v":0},{"$f":"IF(List1!A170=\"4) ostatní\",List1!H170,0)","v":0},{"$f":"IF(List1!A170=\"5) INVESTICE\",List1!G170,0)","v":0},{"$f":"IF(List1!A170=\"5) INVESTICE\",List1!H170,0)","v":0}]
[{"$f":"IF(List1!A171=\"1a) DHDM\",List1!G171,0)","v":0},{"$f":"IF(List1!A171=\"1a) DHDM\",List1!H171,0)","v":0},{"$f":"IF(List1!A171=\"1b) DDNM\",List1!G171,0)","v":0},{"$f":"IF(List1!A171=\"1b) DDNM\",List1!H171,0)","v":0},{"$f":"IF(List1!A171=\"2) služby\",List1!G171,0)","v":0},{"$f":"IF(List1!A171=\"2) služby\",List1!H171,0)","v":0},{"$f":"IF(List1!A171=\"3) OON\",List1!G171,0)","v":0},{"$f":"IF(List1!A171=\"3) OON\",List1!H171,0)","v":0},{"$f":"IF(List1!A171=\"4) ostatní\",List1!G171,0)","v":0},{"$f":"IF(List1!A171=\"4) ostatní\",List1!H171,0)","v":0},{"$f":"IF(List1!A171=\"5) INVESTICE\",List1!G171,0)","v":0},{"$f":"IF(List1!A171=\"5) INVESTICE\",List1!H171,0)","v":0}]
[{"$f":"SUM(A3:A58)","v":0},0,0,0,0,0,0,0,0,0,0,0]

{"sheet":"Pomocný list 3","index":4,"n_rows":32,"n_cols":1,"rows_kept":32,"cut":false,"hidden":false,"merged":[]}
["1) Zlepšení vzájemné kooperace knihoven"]
["2) Zahájení a pokračování automatizace knihovny"]
["3) Zahájení výpůjček e-knih"]
["4) Upgrade z UNIMARC na MARC21"]
["5) Projekty celostátního významu"]
["6) Podpora dostupnosti služeb pro zdravotně postižené"]
["7) Obnova technického a programového vybavení"]
["8) Ostatní projekty"]
["9) Projekty dlouhodobé ochrany dat"]
[]
[]
["provozujeme regionální systém"]
["jsme uživateli regionálního systému"]
["chystáme se zapojit do regionálního systému"]
["regionální systém se nás netýká"]
[]
[]
[]
["kraj / příspěvková organizace kraje"]
["obec / příspěvková organizace obce"]
["příspěvková organizace ministerstva kultury"]
["spolek"]
["o.p.s."]
["rezortní příspěvková organizace (uveďte rezort v následujícím poli)"]
["církev / náboženská společnost"]
["jiná (uveďte v následujícím poli)"]
[]
[]
["ano"]
["ne"]
["plánujeme v r. 2018"]
["plánujeme v budoucnu"]